BEGIN:VCALENDAR
PRODID:-//github.com/ical-org/ical.net//NONSGML ical.net 5.2.1//EN
VERSION:2.0
BEGIN:VEVENT
DTEND;TZID=W. Europe Standard Time:20260623T140000
DTSTAMP:20260420T110513Z
DTSTART;TZID=W. Europe Standard Time:20260622T113000
LOCATION:Campus Sogndal - Rom: Josten og Zoom
ORGANIZER:mailto:post@hvl.no
SEQUENCE:0
SUMMARY:FORTRESS Kickoff-workshop
UID:HVL-575116
BEGIN:VALARM
ACTION:DISPLAY
DESCRIPTION:Reminder
DURATION:-PT15M
TRIGGER:-PT15M
END:VALARM
END:VEVENT
END:VCALENDAR
