BEGIN:VCALENDAR
PRODID:-//github.com/ical-org/ical.net//NONSGML ical.net 5.2.1//EN
VERSION:2.0
BEGIN:VEVENT
DTEND;TZID=W. Europe Standard Time:20261029T153000
DTSTAMP:20260420T110554Z
DTSTART;TZID=W. Europe Standard Time:20261029T090000
LOCATION:Inndalsveien 28\, 5063 Bergen - F117
ORGANIZER:mailto:post@hvl.no
SEQUENCE:0
SUMMARY:Avslutningskonferanse: Export Reports
UID:HVL-574266
BEGIN:VALARM
ACTION:DISPLAY
DESCRIPTION:Reminder
DURATION:-PT15M
TRIGGER:-PT15M
END:VALARM
END:VEVENT
END:VCALENDAR
