BEGIN:VCALENDAR
PRODID:-//github.com/ical-org/ical.net//NONSGML ical.net 5.2.1//EN
VERSION:2.0
BEGIN:VEVENT
DTEND;TZID=W. Europe Standard Time:20261127T140000
DTSTAMP:20260420T110725Z
DTSTART;TZID=W. Europe Standard Time:20261126T080000
LOCATION:Inndalsveien 28\, 5063 Bergen 
ORGANIZER:mailto:post@hvl.no
SEQUENCE:0
SUMMARY:Energiperspektiver på barne- og ungdomslitteratur
UID:HVL-578961
BEGIN:VALARM
ACTION:DISPLAY
DESCRIPTION:Reminder
DURATION:-PT15M
TRIGGER:-PT15M
END:VALARM
END:VEVENT
END:VCALENDAR
