BEGIN:VCALENDAR
PRODID:-//github.com/ical-org/ical.net//NONSGML ical.net 5.2.1//EN
VERSION:2.0
BEGIN:VEVENT
DTEND;TZID=W. Europe Standard Time:20260422T160000
DTSTAMP:20260420T110600Z
DTSTART;TZID=W. Europe Standard Time:20260422T140000
LOCATION:HVL campus Bergen\, C225
ORGANIZER:mailto:post@hvl.no
SEQUENCE:0
SUMMARY:Exploring agency\, positionality\, and authenticity in educational 
 research and praxis
UID:HVL-578060
BEGIN:VALARM
ACTION:DISPLAY
DESCRIPTION:Reminder
DURATION:-PT15M
TRIGGER:-PT15M
END:VALARM
END:VEVENT
END:VCALENDAR
