BEGIN:VCALENDAR
PRODID:-//github.com/ical-org/ical.net//NONSGML ical.net 5.2.1//EN
VERSION:2.0
BEGIN:VEVENT
DTEND;TZID=W. Europe Standard Time:20260422T153000
DTSTAMP:20260420T110723Z
DTSTART;TZID=W. Europe Standard Time:20260422T090000
LOCATION:HVL Bergen\, Kronstad\, M004
ORGANIZER:mailto:post@hvl.no
SEQUENCE:0
SUMMARY:Fagdag: Hva gir kvalitet i opplæring for elever med tegnspråk?
UID:HVL-570951
BEGIN:VALARM
ACTION:DISPLAY
DESCRIPTION:Reminder
DURATION:-PT15M
TRIGGER:-PT15M
END:VALARM
END:VEVENT
END:VCALENDAR
