BEGIN:VCALENDAR
PRODID:-//github.com/ical-org/ical.net//NONSGML ical.net 5.2.1//EN
VERSION:2.0
BEGIN:VEVENT
DTEND;TZID=W. Europe Standard Time:20260528T121000
DTSTAMP:20260422T085655Z
DTSTART;TZID=W. Europe Standard Time:20260528T113000
LOCATION:Sogndal\, Biblioteket
ORGANIZER:mailto:post@hvl.no
SEQUENCE:0
SUMMARY:Faglunsj: Noreg til fotball-VM - kva tyder det for breiddefotballen
 ?
UID:HVL-578957
BEGIN:VALARM
ACTION:DISPLAY
DESCRIPTION:Reminder
DURATION:-PT15M
TRIGGER:-PT15M
END:VALARM
END:VEVENT
END:VCALENDAR
