BEGIN:VCALENDAR
PRODID:-//github.com/ical-org/ical.net//NONSGML ical.net 5.2.1//EN
VERSION:2.0
BEGIN:VEVENT
DTEND;TZID=W. Europe Standard Time:20260423T160000
DTSTAMP:20260420T110758Z
DTSTART;TZID=W. Europe Standard Time:20260423T090000
LOCATION:Høgskulen på Vestlandet\, campus Bergen
ORGANIZER:mailto:post@hvl.no
SEQUENCE:0
SUMMARY:https://www.hvl.no/forsking/gruppe/comparative-perspectives-in-educ
 ation-in-southern-africa-and-northern-europe/
UID:HVL-579343
BEGIN:VALARM
ACTION:DISPLAY
DESCRIPTION:Reminder
DURATION:-PT15M
TRIGGER:-PT15M
END:VALARM
END:VEVENT
END:VCALENDAR
