BEGIN:VCALENDAR
PRODID:-//github.com/ical-org/ical.net//NONSGML ical.net 5.2.1//EN
VERSION:2.0
BEGIN:VEVENT
DTEND;TZID=W. Europe Standard Time:20260429T100000
DTSTAMP:20260420T110757Z
DTSTART;TZID=W. Europe Standard Time:20260429T083000
LOCATION:Høgskulen på Vestlandet\, Campus Bergen\, hovedbygget (K1)\, Kro
 nstadtorget
ORGANIZER:mailto:post@hvl.no
SEQUENCE:0
SUMMARY:HVL innsikt:  Er det god integreringspolitikk å la bioingeniører 
 bli renholdere?
UID:HVL-579400
BEGIN:VALARM
ACTION:DISPLAY
DESCRIPTION:Reminder
DURATION:-PT15M
TRIGGER:-PT15M
END:VALARM
END:VEVENT
END:VCALENDAR
