BEGIN:VCALENDAR
PRODID:-//github.com/ical-org/ical.net//NONSGML ical.net 5.2.1//EN
VERSION:2.0
BEGIN:VEVENT
DTEND;TZID=W. Europe Standard Time:20260512T140000
DTSTAMP:20260420T110550Z
DTSTART;TZID=W. Europe Standard Time:20260512T121500
LOCATION:Digitalt 
ORGANIZER:mailto:post@hvl.no
SEQUENCE:0
SUMMARY:Møte i Utdanningsutvalet ved FTMS
UID:HVL-570885
BEGIN:VALARM
ACTION:DISPLAY
DESCRIPTION:Reminder
DURATION:-PT15M
TRIGGER:-PT15M
END:VALARM
END:VEVENT
END:VCALENDAR
