BEGIN:VCALENDAR
PRODID:-//github.com/ical-org/ical.net//NONSGML ical.net 5.2.1//EN
VERSION:2.0
BEGIN:VEVENT
DESCRIPTION:NORBARN konferanse i Trondheim juni 2026
DTEND;TZID=W. Europe Standard Time:20260610T140000
DTSTAMP:20260421T132017Z
DTSTART;TZID=W. Europe Standard Time:20260608T110000
LOCATION:Trondheim
ORGANIZER:mailto:post@hvl.no
SEQUENCE:0
SUMMARY:NORBARN konferanse "Sammen om kunnskap"
UID:HVL-528607
BEGIN:VALARM
ACTION:DISPLAY
DESCRIPTION:Reminder
DURATION:-PT15M
TRIGGER:-PT15M
END:VALARM
END:VEVENT
END:VCALENDAR
