BEGIN:VCALENDAR
PRODID:-//github.com/ical-org/ical.net//NONSGML ical.net 5.2.1//EN
VERSION:2.0
BEGIN:VEVENT
DTEND;TZID=W. Europe Standard Time:20260422T100000
DTSTAMP:20260420T205810Z
DTSTART;TZID=W. Europe Standard Time:20260422T083000
LOCATION:Vetrlidsallmenningen 2\, Bergen 
ORGANIZER:mailto:post@hvl.no
SEQUENCE:0
SUMMARY:One ocean week research breakfast
UID:HVL-578281
BEGIN:VALARM
ACTION:DISPLAY
DESCRIPTION:Reminder
DURATION:-PT15M
TRIGGER:-PT15M
END:VALARM
END:VEVENT
END:VCALENDAR
