BEGIN:VCALENDAR
PRODID:-//github.com/ical-org/ical.net//NONSGML ical.net 5.2.1//EN
VERSION:2.0
BEGIN:VEVENT
DTEND;TZID=W. Europe Standard Time:20260423T110000
DTSTAMP:20260420T123923Z
DTSTART;TZID=W. Europe Standard Time:20260423T100000
LOCATION:M307\, K2
ORGANIZER:mailto:post@hvl.no
SEQUENCE:0
SUMMARY:Open lecture  “Challenging Racism from the Start: Early Childhood
  Education as a Site of Change”
UID:HVL-576707
BEGIN:VALARM
ACTION:DISPLAY
DESCRIPTION:Reminder
DURATION:-PT15M
TRIGGER:-PT15M
END:VALARM
END:VEVENT
END:VCALENDAR
