BEGIN:VCALENDAR
PRODID:-//github.com/ical-org/ical.net//NONSGML ical.net 5.2.1//EN
VERSION:2.0
BEGIN:VEVENT
DTEND;TZID=W. Europe Standard Time:20260423T130000
DTSTAMP:20260420T112055Z
DTSTART;TZID=W. Europe Standard Time:20260423T120000
LOCATION:M307\, K2
ORGANIZER:mailto:post@hvl.no
SEQUENCE:0
SUMMARY:Open lecture: Feminist Pedagogy and Critical Pedagogy Fostering Soc
 ial Justice\, Human Rights and Dem
UID:HVL-576708
BEGIN:VALARM
ACTION:DISPLAY
DESCRIPTION:Reminder
DURATION:-PT15M
TRIGGER:-PT15M
END:VALARM
END:VEVENT
END:VCALENDAR
