BEGIN:VCALENDAR
PRODID:-//github.com/ical-org/ical.net//NONSGML ical.net 5.2.1//EN
VERSION:2.0
BEGIN:VEVENT
DESCRIPTION:NORBARN Summer School Playful Experiments with Materials in Ped
 agogical Practices.
DTEND;TZID=W. Europe Standard Time:20260925T130000
DTSTAMP:20260422T100920Z
DTSTART;TZID=W. Europe Standard Time:20260921T120000
LOCATION:Bergen
ORGANIZER:mailto:post@hvl.no
SEQUENCE:0
SUMMARY:Summer School: Playful Experiments
UID:HVL-568341
BEGIN:VALARM
ACTION:DISPLAY
DESCRIPTION:Reminder
DURATION:-PT15M
TRIGGER:-PT15M
END:VALARM
END:VEVENT
END:VCALENDAR
