BEGIN:VCALENDAR
PRODID:-//github.com/ical-org/ical.net//NONSGML ical.net 5.2.1//EN
VERSION:2.0
BEGIN:VEVENT
DTEND;TZID=W. Europe Standard Time:20260602T180000
DTSTAMP:20260420T110551Z
DTSTART;TZID=W. Europe Standard Time:20260601T090000
LOCATION:Zander Kaaes Gate 6\, 5015 Bergen
ORGANIZER:mailto:post@hvl.no
SEQUENCE:0
SUMMARY:Symposium om bærekraftige fremtider
UID:HVL-579266
BEGIN:VALARM
ACTION:DISPLAY
DESCRIPTION:Reminder
DURATION:-PT15M
TRIGGER:-PT15M
END:VALARM
END:VEVENT
END:VCALENDAR
